Package: MPRAnalyze Version: 1.24.0 Command: /Library/Frameworks/R.framework/Resources/bin/R CMD build --keep-empty-dirs --no-resave-data MPRAnalyze StartedAt: 2025-01-30 21:02:32 -0500 (Thu, 30 Jan 2025) EndedAt: 2025-01-30 21:06:34 -0500 (Thu, 30 Jan 2025) EllapsedTime: 241.9 seconds RetCode: 0 Status: OK PackageFile: MPRAnalyze_1.24.0.tar.gz PackageFileSize: 402.4 KiB