Package: MPRAnalyze Version: 1.24.0 Command: /Library/Frameworks/R.framework/Resources/bin/R CMD INSTALL MPRAnalyze StartedAt: 2025-01-30 15:44:08 -0500 (Thu, 30 Jan 2025) EndedAt: 2025-01-30 15:45:02 -0500 (Thu, 30 Jan 2025) EllapsedTime: 54.5 seconds RetCode: 0 Status: OK