Package: MPRAnalyze Version: 1.24.0 Command: rm -rf MPRAnalyze.buildbin-libdir && mkdir MPRAnalyze.buildbin-libdir && F:\biocbuild\bbs-3.20-bioc\R\bin\R.exe CMD INSTALL --build --library=MPRAnalyze.buildbin-libdir MPRAnalyze_1.24.0.tar.gz StartedAt: 2025-01-31 09:06:26 -0500 (Fri, 31 Jan 2025) EndedAt: 2025-01-31 09:07:10 -0500 (Fri, 31 Jan 2025) EllapsedTime: 43.7 seconds RetCode: 0 Status: OK PackageFile: MPRAnalyze_1.24.0.zip PackageFileSize: 569.1 KiB