Package: MPRAnalyze Version: 1.24.0 Command: /home/biocbuild/R/R/bin/R CMD check --install=check:MPRAnalyze.install-out.txt --library=/home/biocbuild/R/R/site-library --no-vignettes --timings MPRAnalyze_1.24.0.tar.gz StartedAt: 2025-01-31 08:20:30 -0000 (Fri, 31 Jan 2025) EndedAt: 2025-01-31 08:24:04 -0000 (Fri, 31 Jan 2025) EllapsedTime: 214.3 seconds RetCode: 0 Status: OK CheckDir: MPRAnalyze.Rcheck Warnings: 0