Package: MSA2dist Version: 1.10.1 Command: /Library/Frameworks/R.framework/Resources/bin/R CMD build --keep-empty-dirs --no-resave-data MSA2dist StartedAt: 2025-02-03 20:36:10 -0500 (Mon, 03 Feb 2025) EndedAt: 2025-02-03 20:39:29 -0500 (Mon, 03 Feb 2025) EllapsedTime: 198.9 seconds RetCode: 0 Status: OK PackageFile: MSA2dist_1.10.1.tar.gz PackageFileSize: 877.7 KiB