Package: MSA2dist Version: 1.10.1 Command: /Library/Frameworks/R.framework/Resources/bin/R CMD check --install=check:MSA2dist.install-out.txt --library=/Library/Frameworks/R.framework/Resources/library --no-vignettes --timings MSA2dist_1.10.1.tar.gz StartedAt: 2025-02-04 06:45:33 -0500 (Tue, 04 Feb 2025) EndedAt: 2025-02-04 06:53:24 -0500 (Tue, 04 Feb 2025) EllapsedTime: 471.9 seconds RetCode: 0 Status: OK CheckDir: MSA2dist.Rcheck Warnings: 0