Package: MSPrep Version: 1.16.0 Command: /Library/Frameworks/R.framework/Resources/bin/R CMD INSTALL MSPrep StartedAt: 2025-02-03 17:57:24 -0500 (Mon, 03 Feb 2025) EndedAt: 2025-02-03 17:58:03 -0500 (Mon, 03 Feb 2025) EllapsedTime: 38.2 seconds RetCode: 0 Status: OK