Package: MSPrep Version: 1.16.0 Command: rm -rf MSPrep.buildbin-libdir && mkdir MSPrep.buildbin-libdir && /Users/biocbuild/BBS/utils/build-universal.sh MSPrep_1.16.0.tar.gz /Library/Frameworks/R.framework/Resources/bin/R MSPrep.buildbin-libdir StartedAt: 2025-02-04 13:32:58 -0500 (Tue, 04 Feb 2025) EndedAt: 2025-02-04 13:34:51 -0500 (Tue, 04 Feb 2025) EllapsedTime: 113.0 seconds RetCode: 0 Status: OK PackageFile: MSPrep_1.16.0.tgz PackageFileSize: 1.636 MiB