Package: MSPrep Version: 1.16.0 Command: /Library/Frameworks/R.framework/Resources/bin/R CMD check --install=check:MSPrep.install-out.txt --library=/Library/Frameworks/R.framework/Resources/library --no-vignettes --timings MSPrep_1.16.0.tar.gz StartedAt: 2025-01-31 06:59:51 -0500 (Fri, 31 Jan 2025) EndedAt: 2025-01-31 07:17:46 -0500 (Fri, 31 Jan 2025) EllapsedTime: 1075.8 seconds RetCode: 0 Status: OK CheckDir: MSPrep.Rcheck Warnings: 0