Package: MSPrep Version: 1.16.0 Command: /Library/Frameworks/R.framework/Resources/bin/R CMD INSTALL MSPrep StartedAt: 2025-01-30 16:37:55 -0500 (Thu, 30 Jan 2025) EndedAt: 2025-01-30 16:39:06 -0500 (Thu, 30 Jan 2025) EllapsedTime: 71.3 seconds RetCode: 0 Status: OK