Package: MSPrep Version: 1.16.0 Command: /home/biocbuild/bbs-3.20-bioc/R/bin/R CMD check --install=check:MSPrep.install-out.txt --library=/home/biocbuild/bbs-3.20-bioc/R/site-library --timings MSPrep_1.16.0.tar.gz StartedAt: 2025-01-31 00:18:28 -0500 (Fri, 31 Jan 2025) EndedAt: 2025-01-31 00:27:01 -0500 (Fri, 31 Jan 2025) EllapsedTime: 512.6 seconds RetCode: 0 Status: OK CheckDir: MSPrep.Rcheck Warnings: 0