Package: MSPrep Version: 1.16.0 Command: F:\biocbuild\bbs-3.20-bioc\R\bin\R.exe CMD check --no-multiarch --install=check:MSPrep.install-out.txt --library=F:\biocbuild\bbs-3.20-bioc\R\library --no-vignettes --timings MSPrep_1.16.0.tar.gz StartedAt: 2025-01-31 04:17:54 -0500 (Fri, 31 Jan 2025) EndedAt: 2025-01-31 04:26:43 -0500 (Fri, 31 Jan 2025) EllapsedTime: 529.3 seconds RetCode: 0 Status: OK CheckDir: MSPrep.Rcheck Warnings: 0