Package: MSPrep Version: 1.16.0 Command: F:\biocbuild\bbs-3.20-bioc\R\bin\R.exe CMD INSTALL MSPrep StartedAt: 2025-01-30 16:51:37 -0500 (Thu, 30 Jan 2025) EndedAt: 2025-01-30 16:52:21 -0500 (Thu, 30 Jan 2025) EllapsedTime: 43.6 seconds RetCode: 0 Status: OK