Package: MSnID Version: 1.40.0 Command: rm -rf MSnID.buildbin-libdir && mkdir MSnID.buildbin-libdir && /Users/biocbuild/BBS/utils/build-universal.sh MSnID_1.40.0.tar.gz /Library/Frameworks/R.framework/Resources/bin/R MSnID.buildbin-libdir StartedAt: 2025-02-04 13:32:57 -0500 (Tue, 04 Feb 2025) EndedAt: 2025-02-04 13:35:34 -0500 (Tue, 04 Feb 2025) EllapsedTime: 156.2 seconds RetCode: 0 Status: OK PackageFile: MSnID_1.40.0.tgz PackageFileSize: 4.118 MiB