Package: MSnID Version: 1.40.0 Command: /home/biocbuild/bbs-3.20-bioc/R/bin/R CMD INSTALL MSnID StartedAt: 2025-02-17 15:44:47 -0500 (Mon, 17 Feb 2025) EndedAt: 2025-02-17 15:45:28 -0500 (Mon, 17 Feb 2025) EllapsedTime: 41.5 seconds RetCode: 0 Status: OK