Package: MSnID Version: 1.40.0 Command: F:\biocbuild\bbs-3.20-bioc\R\bin\R.exe CMD check --no-multiarch --install=check:MSnID.install-out.txt --library=F:\biocbuild\bbs-3.20-bioc\R\library --no-vignettes --timings MSnID_1.40.0.tar.gz StartedAt: 2025-02-04 04:07:01 -0500 (Tue, 04 Feb 2025) EndedAt: 2025-02-04 04:15:07 -0500 (Tue, 04 Feb 2025) EllapsedTime: 485.4 seconds RetCode: 0 Status: OK CheckDir: MSnID.Rcheck Warnings: 0