Package: MSnID Version: 1.40.0 Command: /home/biocbuild/R/R/bin/R CMD build --keep-empty-dirs --no-resave-data MSnID StartedAt: 2025-02-04 01:13:47 -0000 (Tue, 04 Feb 2025) EndedAt: 2025-02-04 01:16:08 -0000 (Tue, 04 Feb 2025) EllapsedTime: 141.1 seconds RetCode: 0 Status: OK PackageFile: MSnID_1.40.0.tar.gz PackageFileSize: 2.983 MiB