Package: MSnID Version: 1.40.0 Command: /home/biocbuild/R/R/bin/R CMD check --install=check:MSnID.install-out.txt --library=/home/biocbuild/R/R/site-library --no-vignettes --timings MSnID_1.40.0.tar.gz StartedAt: 2025-02-04 09:07:05 -0000 (Tue, 04 Feb 2025) EndedAt: 2025-02-04 09:15:18 -0000 (Tue, 04 Feb 2025) EllapsedTime: 492.8 seconds RetCode: 1 Status: ERROR CheckDir: MSnID.Rcheck Warnings: NA