Package: MSnID Version: 1.40.0 Command: /home/biocbuild/R/R/bin/R CMD INSTALL MSnID StartedAt: 2025-02-03 21:03:28 -0000 (Mon, 03 Feb 2025) EndedAt: 2025-02-03 21:04:24 -0000 (Mon, 03 Feb 2025) EllapsedTime: 55.7 seconds RetCode: 0 Status: OK