Package: MSnbase Version: 2.32.0 Command: /Library/Frameworks/R.framework/Resources/bin/R CMD build --keep-empty-dirs --no-resave-data MSnbase StartedAt: 2025-02-04 04:11:20 -0500 (Tue, 04 Feb 2025) EndedAt: 2025-02-04 04:15:27 -0500 (Tue, 04 Feb 2025) EllapsedTime: 246.9 seconds RetCode: 0 Status: OK PackageFile: MSnbase_2.32.0.tar.gz PackageFileSize: 6.108 MiB