############################################################################## ############################################################################## ### ### Running command: ### ### /Library/Frameworks/R.framework/Resources/bin/R CMD check --install=check:MSnbase.install-out.txt --library=/Library/Frameworks/R.framework/Resources/library --no-vignettes --timings MSnbase_2.32.0.tar.gz ### ############################################################################## ############################################################################## * using log directory ‘/Users/biocbuild/bbs-3.20-bioc/meat/MSnbase.Rcheck’ * using R version 4.4.2 (2024-10-31) * using platform: x86_64-apple-darwin20 * R was compiled by Apple clang version 14.0.0 (clang-1400.0.29.202) GNU Fortran (GCC) 12.2.0 * running under: macOS Monterey 12.7.6 * using session charset: UTF-8 * using option ‘--no-vignettes’ * checking for file ‘MSnbase/DESCRIPTION’ ... OK * this is package ‘MSnbase’ version ‘2.32.0’ * package encoding: UTF-8 * checking package namespace information ... OK * checking package dependencies ... OK * checking if this is a source package ... OK * checking if there is a namespace ... OK * checking for hidden files and directories ... OK * checking for portable file names ... OK * checking for sufficient/correct file permissions ... OK * checking whether package ‘MSnbase’ can be installed ... OK * used C compiler: ‘Apple clang version 14.0.0 (clang-1400.0.29.202)’ * used C++ compiler: ‘Apple clang version 14.0.0 (clang-1400.0.29.202)’ * used SDK: ‘MacOSX11.3.sdk’ * checking installed package size ... NOTE installed size is 5.8Mb sub-directories of 1Mb or more: R 2.4Mb data 1.9Mb * checking package directory ... OK * checking ‘build’ directory ... OK * checking DESCRIPTION meta-information ... NOTE Authors@R field gives more than one person with maintainer role: Laurent Gatto [aut, cre] () Johannes Rainer [aut, cre] () Sebastian Gibb [aut, cre] () * checking top-level files ... OK * checking for left-over files ... OK * checking index information ... OK * checking package subdirectories ... OK * checking code files for non-ASCII characters ... OK * checking R files for syntax errors ... OK * checking whether the package can be loaded ... OK * checking whether the package can be loaded with stated dependencies ... OK * checking whether the package can be unloaded cleanly ... OK * checking whether the namespace can be loaded with stated dependencies ... OK * checking whether the namespace can be unloaded cleanly ... OK * checking whether startup messages can be suppressed ... OK * checking dependencies in R code ... NOTE ':::' calls which should be '::': ‘S4Vectors:::makeClassinfoRowForCompactPrinting’ ‘S4Vectors:::makePrettyMatrixForCompactPrinting’ See the note in ?`:::` about the use of this operator. Unexported objects imported by ':::' calls: ‘Biobase:::.showAnnotatedDataFrame’ ‘MALDIquant:::.estimateNoise’ ‘MALDIquant:::.localMaxima’ ‘MALDIquant:::.movingAverage’ ‘MALDIquant:::.savitzkyGolay’ ‘mzR:::.hasChromatograms’ ‘mzR:::.hasSpectra’ See the note in ?`:::` about the use of this operator. * checking S3 generic/method consistency ... OK * checking replacement functions ... OK * checking foreign function calls ... OK * checking R code for possible problems ... OK * checking Rd files ... OK * checking Rd metadata ... OK * checking Rd cross-references ... OK * checking for missing documentation entries ... OK * checking for code/documentation mismatches ... OK * checking Rd \usage sections ... OK * checking Rd contents ... OK * checking for unstated dependencies in examples ... OK * checking contents of ‘data’ directory ... OK * checking data for non-ASCII characters ... OK * checking LazyData ... OK * checking data for ASCII and uncompressed saves ... OK * checking line endings in C/C++/Fortran sources/headers ... OK * checking compiled code ... NOTE Note: information on .o files is not available * checking files in ‘vignettes’ ... OK * checking examples ... OK Examples with CPU (user + system) or elapsed time > 5s user system elapsed chromatogram-MSnExp-method 21.103 0.509 22.348 OnDiskMSnExp-class 15.325 0.342 16.195 averageMSnSet 11.109 0.593 12.624 aggvar 11.264 0.135 12.340 MSnSet-class 8.832 0.372 9.380 combineSpectra 7.551 0.190 8.326 estimateMzResolution 6.244 0.522 7.060 plot-methods 6.547 0.137 6.891 imageNA2 6.002 0.176 6.930 missing-data 5.512 0.157 5.899 quantify-methods 5.330 0.038 5.477 combineSpectraMovingWindow 4.914 0.114 5.081 * checking for unstated dependencies in ‘tests’ ... OK * checking tests ... Running ‘testthat.R’ ERROR Running the tests in ‘tests/testthat.R’ failed. Last 13 lines of output: ── Error ('test_MSmap.R:6:1'): (code run outside of `test_that()`) ───────────── Error in `fix_issue_17(x)`: Can't access URL(s): Backtrace: ▆ 1. └─rpx::PXDataset("PXD000001") at test_MSmap.R:6:1 2. └─rpx:::get_url(px_metadata[["_links"]]$datasetFtpUrl$href) 3. └─rpx:::fix_issue_17(x) [ FAIL 1 | WARN 1092 | SKIP 12 | PASS 2350 ] Error: Test failures In addition: Warning message: In for (i in seq_along(snames)) { : closing unused connection 4 (/tmp/RtmptISjms/file1c22b29c77b) Execution halted * checking for unstated dependencies in vignettes ... OK * checking package vignettes ... OK * checking running R code from vignettes ... SKIPPED * checking re-building of vignette outputs ... SKIPPED * checking PDF version of manual ... OK * DONE Status: 1 ERROR, 4 NOTEs See ‘/Users/biocbuild/bbs-3.20-bioc/meat/MSnbase.Rcheck/00check.log’ for details.