Package: MSnbase Version: 2.32.0 Command: /home/biocbuild/R/R/bin/R CMD build --keep-empty-dirs --no-resave-data MSnbase StartedAt: 2025-02-04 01:13:40 -0000 (Tue, 04 Feb 2025) EndedAt: 2025-02-04 01:53:41 -0000 (Tue, 04 Feb 2025) EllapsedTime: 2401.0 seconds RetCode: None Status: TIMEOUT PackageFile: None PackageFileSize: NA