Package: MSnbase Version: 2.32.0 Command: /home/biocbuild/R/R/bin/R CMD check --install=check:MSnbase.install-out.txt --library=/home/biocbuild/R/R/site-library --no-vignettes --timings MSnbase_2.32.0.tar.gz StartedAt: 2025-01-24 08:38:15 -0000 (Fri, 24 Jan 2025) EndedAt: 2025-01-24 08:57:05 -0000 (Fri, 24 Jan 2025) EllapsedTime: 1129.8 seconds RetCode: 0 Status: OK CheckDir: MSnbase.Rcheck Warnings: 0