Package: MSnbase Version: 2.32.0 Command: /home/biocbuild/R/R/bin/R CMD INSTALL MSnbase StartedAt: 2025-02-03 20:58:48 -0000 (Mon, 03 Feb 2025) EndedAt: 2025-02-03 21:00:21 -0000 (Mon, 03 Feb 2025) EllapsedTime: 93.3 seconds RetCode: 0 Status: OK