Package: MSstats Version: 4.14.1 Command: rm -rf MSstats.buildbin-libdir && mkdir MSstats.buildbin-libdir && /Users/biocbuild/BBS/utils/build-universal.sh MSstats_4.14.1.tar.gz /Library/Frameworks/R.framework/Resources/bin/R MSstats.buildbin-libdir StartedAt: 2025-02-05 16:50:39 -0500 (Wed, 05 Feb 2025) EndedAt: 2025-02-05 16:51:24 -0500 (Wed, 05 Feb 2025) EllapsedTime: 44.9 seconds RetCode: 0 Status: OK PackageFile: MSstats_4.14.1.tgz PackageFileSize: 1001 KiB