Package: MSstats Version: 4.14.1 Command: /Library/Frameworks/R.framework/Resources/bin/R CMD INSTALL MSstats StartedAt: 2025-02-03 16:18:57 -0500 (Mon, 03 Feb 2025) EndedAt: 2025-02-03 16:20:25 -0500 (Mon, 03 Feb 2025) EllapsedTime: 87.6 seconds RetCode: 0 Status: OK