Package: MSstats Version: 4.14.1 Command: /home/biocbuild/bbs-3.20-bioc/R/bin/R CMD INSTALL MSstats StartedAt: 2025-02-03 15:51:13 -0500 (Mon, 03 Feb 2025) EndedAt: 2025-02-03 15:51:58 -0500 (Mon, 03 Feb 2025) EllapsedTime: 44.7 seconds RetCode: 0 Status: OK