Package: MSstats Version: 4.14.1 Command: chmod a+r MSstats -R && F:\biocbuild\bbs-3.20-bioc\R\bin\R.exe CMD build --keep-empty-dirs --no-resave-data MSstats StartedAt: 2025-02-03 20:37:48 -0500 (Mon, 03 Feb 2025) EndedAt: 2025-02-03 20:41:08 -0500 (Mon, 03 Feb 2025) EllapsedTime: 200.3 seconds RetCode: 0 Status: OK PackageFile: MSstats_4.14.1.tar.gz PackageFileSize: 270.1 KiB