Package: MSstats Version: 4.14.1 Command: /home/biocbuild/R/R/bin/R CMD check --install=check:MSstats.install-out.txt --library=/home/biocbuild/R/R/site-library --no-vignettes --timings MSstats_4.14.1.tar.gz StartedAt: 2025-02-04 09:08:20 -0000 (Tue, 04 Feb 2025) EndedAt: 2025-02-04 09:10:45 -0000 (Tue, 04 Feb 2025) EllapsedTime: 145.2 seconds RetCode: 0 Status: WARNINGS CheckDir: MSstats.Rcheck Warnings: 1