Package: MSstatsBig
Version: 1.4.0
Command: /home/biocbuild/R/R/bin/R CMD check --install=check:MSstatsBig.install-out.txt --library=/home/biocbuild/R/R/site-library --no-vignettes --timings MSstatsBig_1.4.0.tar.gz
StartedAt: 2025-02-18 09:12:09 -0000 (Tue, 18 Feb 2025)
EndedAt: 2025-02-18 09:13:54 -0000 (Tue, 18 Feb 2025)
EllapsedTime: 105.1 seconds
RetCode: 0
Status: OK
CheckDir: MSstatsBig.Rcheck
Warnings: 0