Package: MSstatsBig Version: 1.4.0 Command: /home/biocbuild/R/R/bin/R CMD INSTALL MSstatsBig StartedAt: 2025-02-03 21:06:52 -0000 (Mon, 03 Feb 2025) EndedAt: 2025-02-03 21:07:05 -0000 (Mon, 03 Feb 2025) EllapsedTime: 13.5 seconds RetCode: 0 Status: OK