Package: MSstatsConvert Version: 1.16.1 Command: /Library/Frameworks/R.framework/Resources/bin/R CMD check --install=check:MSstatsConvert.install-out.txt --library=/Library/Frameworks/R.framework/Resources/library --no-vignettes --timings MSstatsConvert_1.16.1.tar.gz StartedAt: 2025-02-05 03:13:18 -0500 (Wed, 05 Feb 2025) EndedAt: 2025-02-05 03:13:59 -0500 (Wed, 05 Feb 2025) EllapsedTime: 41.0 seconds RetCode: 0 Status: WARNINGS CheckDir: MSstatsConvert.Rcheck Warnings: 3