Package: MSstatsConvert Version: 1.16.1 Command: /Library/Frameworks/R.framework/Resources/bin/R CMD build --keep-empty-dirs --no-resave-data MSstatsConvert StartedAt: 2025-02-03 20:41:39 -0500 (Mon, 03 Feb 2025) EndedAt: 2025-02-03 20:42:03 -0500 (Mon, 03 Feb 2025) EllapsedTime: 24.2 seconds RetCode: 0 Status: OK PackageFile: MSstatsConvert_1.16.1.tar.gz PackageFileSize: 1.802 MiB