Package: MSstatsConvert Version: 1.16.1 Command: /home/biocbuild/bbs-3.20-bioc/R/bin/R CMD check --install=check:MSstatsConvert.install-out.txt --library=/home/biocbuild/bbs-3.20-bioc/R/site-library --timings MSstatsConvert_1.16.1.tar.gz StartedAt: 2025-02-04 00:30:27 -0500 (Tue, 04 Feb 2025) EndedAt: 2025-02-04 00:30:59 -0500 (Tue, 04 Feb 2025) EllapsedTime: 32.0 seconds RetCode: 0 Status: WARNINGS CheckDir: MSstatsConvert.Rcheck Warnings: 3