Package: MSstatsConvert Version: 1.16.1 Command: /home/biocbuild/bbs-3.20-bioc/R/bin/R CMD INSTALL MSstatsConvert StartedAt: 2025-02-03 15:16:56 -0500 (Mon, 03 Feb 2025) EndedAt: 2025-02-03 15:16:59 -0500 (Mon, 03 Feb 2025) EllapsedTime: 3.6 seconds RetCode: 0 Status: OK