Package: MSstatsLOBD Version: 1.14.0 Command: /Library/Frameworks/R.framework/Resources/bin/R CMD INSTALL MSstatsLOBD StartedAt: 2025-01-30 15:34:00 -0500 (Thu, 30 Jan 2025) EndedAt: 2025-01-30 15:34:05 -0500 (Thu, 30 Jan 2025) EllapsedTime: 5.7 seconds RetCode: 0 Status: OK