Package: MSstatsLOBD Version: 1.14.0 Command: /Library/Frameworks/R.framework/Resources/bin/R CMD build --keep-empty-dirs --no-resave-data MSstatsLOBD StartedAt: 2025-01-30 21:10:12 -0500 (Thu, 30 Jan 2025) EndedAt: 2025-01-30 21:11:43 -0500 (Thu, 30 Jan 2025) EllapsedTime: 91.3 seconds RetCode: 0 Status: OK PackageFile: MSstatsLOBD_1.14.0.tar.gz PackageFileSize: 341.1 KiB