Package: MSstatsLOBD Version: 1.14.0 Command: /Library/Frameworks/R.framework/Resources/bin/R CMD check --install=check:MSstatsLOBD.install-out.txt --library=/Library/Frameworks/R.framework/Resources/library --no-vignettes --timings MSstatsLOBD_1.14.0.tar.gz StartedAt: 2025-01-31 07:02:45 -0500 (Fri, 31 Jan 2025) EndedAt: 2025-01-31 07:03:59 -0500 (Fri, 31 Jan 2025) EllapsedTime: 73.2 seconds RetCode: 0 Status: OK CheckDir: MSstatsLOBD.Rcheck Warnings: 0