Package: MSstatsLOBD Version: 1.14.0 Command: rm -rf MSstatsLOBD.buildbin-libdir && mkdir MSstatsLOBD.buildbin-libdir && F:\biocbuild\bbs-3.20-bioc\R\bin\R.exe CMD INSTALL --build --library=MSstatsLOBD.buildbin-libdir MSstatsLOBD_1.14.0.tar.gz StartedAt: 2025-01-31 09:07:35 -0500 (Fri, 31 Jan 2025) EndedAt: 2025-01-31 09:07:50 -0500 (Fri, 31 Jan 2025) EllapsedTime: 15.2 seconds RetCode: 0 Status: OK PackageFile: MSstatsLOBD_1.14.0.zip PackageFileSize: 184.7 KiB