Package: MSstatsLOBD Version: 1.14.0 Command: /home/biocbuild/R/R/bin/R CMD INSTALL MSstatsLOBD StartedAt: 2025-01-30 20:13:46 -0000 (Thu, 30 Jan 2025) EndedAt: 2025-01-30 20:13:51 -0000 (Thu, 30 Jan 2025) EllapsedTime: 5.3 seconds RetCode: 0 Status: OK