Package: MSstatsLiP Version: 1.12.0 Command: /Library/Frameworks/R.framework/Resources/bin/R CMD check --install=check:MSstatsLiP.install-out.txt --library=/Library/Frameworks/R.framework/Resources/library --no-vignettes --timings MSstatsLiP_1.12.0.tar.gz StartedAt: 2025-02-12 02:37:43 -0500 (Wed, 12 Feb 2025) EndedAt: 2025-02-12 02:41:19 -0500 (Wed, 12 Feb 2025) EllapsedTime: 215.7 seconds RetCode: 0 Status: OK CheckDir: MSstatsLiP.Rcheck Warnings: 0