Package: MSstatsLiP Version: 1.12.0 Command: /Library/Frameworks/R.framework/Resources/bin/R CMD INSTALL MSstatsLiP StartedAt: 2025-02-10 18:24:09 -0500 (Mon, 10 Feb 2025) EndedAt: 2025-02-10 18:24:38 -0500 (Mon, 10 Feb 2025) EllapsedTime: 28.9 seconds RetCode: 0 Status: OK