Package: MSstatsLiP Version: 1.12.0 Command: rm -rf MSstatsLiP.buildbin-libdir && mkdir MSstatsLiP.buildbin-libdir && /Users/biocbuild/BBS/utils/build-universal.sh MSstatsLiP_1.12.0.tar.gz /Library/Frameworks/R.framework/Resources/bin/R MSstatsLiP.buildbin-libdir StartedAt: 2025-02-11 13:54:41 -0500 (Tue, 11 Feb 2025) EndedAt: 2025-02-11 13:56:16 -0500 (Tue, 11 Feb 2025) EllapsedTime: 95.1 seconds RetCode: 0 Status: OK PackageFile: MSstatsLiP_1.12.0.tgz PackageFileSize: 1.964 MiB