Package: MSstatsLiP Version: 1.12.0 Command: /Library/Frameworks/R.framework/Resources/bin/R CMD check --install=check:MSstatsLiP.install-out.txt --library=/Library/Frameworks/R.framework/Resources/library --no-vignettes --timings MSstatsLiP_1.12.0.tar.gz StartedAt: 2025-02-11 07:07:53 -0500 (Tue, 11 Feb 2025) EndedAt: 2025-02-11 07:15:27 -0500 (Tue, 11 Feb 2025) EllapsedTime: 453.7 seconds RetCode: 0 Status: OK CheckDir: MSstatsLiP.Rcheck Warnings: 0