Package: MSstatsLiP Version: 1.12.0 Command: /home/biocbuild/R/R/bin/R CMD INSTALL MSstatsLiP StartedAt: 2025-02-03 21:23:19 -0000 (Mon, 03 Feb 2025) EndedAt: 2025-02-03 21:23:54 -0000 (Mon, 03 Feb 2025) EllapsedTime: 34.8 seconds RetCode: 0 Status: OK