Package: MSstatsPTM Version: 2.8.1 Command: rm -rf MSstatsPTM.buildbin-libdir && mkdir MSstatsPTM.buildbin-libdir && /Users/biocbuild/BBS/utils/build-universal.sh MSstatsPTM_2.8.1.tar.gz /Library/Frameworks/R.framework/Resources/bin/R MSstatsPTM.buildbin-libdir StartedAt: 2025-02-04 13:33:48 -0500 (Tue, 04 Feb 2025) EndedAt: 2025-02-04 13:35:34 -0500 (Tue, 04 Feb 2025) EllapsedTime: 105.4 seconds RetCode: 0 Status: OK PackageFile: MSstatsPTM_2.8.1.tgz PackageFileSize: 3.236 MiB