Package: MSstatsPTM
Version: 2.8.1
Command: /home/biocbuild/bbs-3.20-bioc/R/bin/R CMD build --keep-empty-dirs --no-resave-data --md5 MSstatsPTM
StartedAt: 2025-02-17 18:10:49 -0500 (Mon, 17 Feb 2025)
EndedAt: 2025-02-17 18:11:58 -0500 (Mon, 17 Feb 2025)
EllapsedTime: 69.1 seconds
RetCode: 0
Status: OK
PackageFile: MSstatsPTM_2.8.1.tar.gz
PackageFileSize: 2.808 <A href="http://en.wikipedia.org/wiki/MiB" target="_blank">MiB</A>