Package: MSstatsPTM Version: 2.8.1 Command: /home/biocbuild/R/R/bin/R CMD INSTALL MSstatsPTM StartedAt: 2025-02-03 21:12:09 -0000 (Mon, 03 Feb 2025) EndedAt: 2025-02-03 21:12:45 -0000 (Mon, 03 Feb 2025) EllapsedTime: 36.2 seconds RetCode: 0 Status: OK