Package: MSstatsQC Version: 2.24.0 Command: /Library/Frameworks/R.framework/Resources/bin/R CMD INSTALL MSstatsQC StartedAt: 2025-02-03 16:58:26 -0500 (Mon, 03 Feb 2025) EndedAt: 2025-02-03 16:59:09 -0500 (Mon, 03 Feb 2025) EllapsedTime: 42.9 seconds RetCode: 0 Status: OK