Package: MSstatsQC
Version: 2.24.0
Command: /home/biocbuild/R/R/bin/R CMD build --keep-empty-dirs --no-resave-data MSstatsQC
StartedAt: 2024-11-20 02:26:14 -0000 (Wed, 20 Nov 2024)
EndedAt: 2024-11-20 02:27:50 -0000 (Wed, 20 Nov 2024)
EllapsedTime: 96.1 seconds
RetCode: 0
Status: OK
PackageFile: MSstatsQC_2.24.0.tar.gz
PackageFileSize: 2.101 <A href="http://en.wikipedia.org/wiki/MiB" target="_blank">MiB</A>